BEGIN:VCALENDAR
VERSION:2.0
PRODID:-//Greater Astoria Historical Society - ECPv6.15.18//NONSGML v1.0//EN
CALSCALE:GREGORIAN
METHOD:PUBLISH
X-WR-CALNAME:Greater Astoria Historical Society
X-ORIGINAL-URL:https://astorialic.org
X-WR-CALDESC:Events for Greater Astoria Historical Society
REFRESH-INTERVAL;VALUE=DURATION:PT1H
X-Robots-Tag:noindex
X-PUBLISHED-TTL:PT1H
BEGIN:VTIMEZONE
TZID:UTC
BEGIN:STANDARD
TZOFFSETFROM:+0000
TZOFFSETTO:+0000
TZNAME:UTC
DTSTART:20190101T000000
END:STANDARD
END:VTIMEZONE
BEGIN:VEVENT
DTSTART;TZID=UTC:20210208T190000
DTEND;TZID=UTC:20210208T190000
DTSTAMP:20260420T071513
CREATED:20210121T090131Z
LAST-MODIFIED:20210121T090131Z
UID:28469-1612810800-1612810800@astorialic.org
SUMMARY:THE TURNPIKES OF LONG ISLAND CITY!
DESCRIPTION:  \nTHE TURNPIKES OF LONG ISLAND CITY!\n                                                                                                                                                       \n               “Hunter’s Point\, Newtown & Flushing Turnpike Road Company” aka Northern Blvd. (1858)\nThere was a time when it was the whims of nature that dictate our course over terrain – a bubbly brook\, the slope of a hill\, a thicket of thorns made us pawns of topography. So we invented the turnpike\, straight lines across a landscape that saves us time and effort.\nFebruary 8 at 7:00 pm\nRSVP by 5:30 pm by Monday\, 02/08/2021 with the subject-line “TURNPIKE” to info@astorialic.org .\n  \nPhoto: MITCH WAXMAN
URL:https://astorialic.org/event/the-turnpikes-of-long-island-city-4/
END:VEVENT
BEGIN:VEVENT
DTSTART;TZID=UTC:20210128T190000
DTEND;TZID=UTC:20210128T190000
DTSTAMP:20260420T071513
CREATED:20210121T033221Z
LAST-MODIFIED:20210121T033221Z
UID:7353-1611860400-1611860400@astorialic.org
SUMMARY:A VIRTUAL TOUR OF ASTORIA! with Kevin Walsh of Forgotten NY
DESCRIPTION:Take a Virtual Astoria Walk with Kevin Walsh\nThe Webmaster of the Legendary Website ‘Forgotten New York’\n(With Assistance from Bob Singleton\, Astoria Historical Society)\nJANUARY 28 at 7:00 pm \nA virtual tour on Zoom.\nPlease RSVP by 5:30 pm\, Monday\, 01/28/2021\, subject-line “ASTORIAPARK” to info@astorialic.org .\n PHOTO:WIKI COMMONS
URL:https://astorialic.org/event/a-virtual-tour-of-astoria-with-kevin-walsh-of-forgotten-ny/
END:VEVENT
BEGIN:VEVENT
DTSTART;TZID=UTC:20210128T190000
DTEND;TZID=UTC:20210128T190000
DTSTAMP:20260420T071513
CREATED:20210121T033221Z
LAST-MODIFIED:20210121T033221Z
UID:28334-1611860400-1611860400@astorialic.org
SUMMARY:A VIRTUAL TOUR OF ASTORIA! with Kevin Walsh of Forgotten NY
DESCRIPTION:Take a Virtual Astoria Walk with Kevin Walsh\nThe Webmaster of the Legendary Website ‘Forgotten New York’\n(With Assistance from Bob Singleton\, Astoria Historical Society)\nJANUARY 28 at 7:00 pm \nA virtual tour on Zoom.\nPlease RSVP by 5:30 pm\, Monday\, 01/28/2021\, subject-line “ASTORIAPARK” to info@astorialic.org .\n PHOTO:WIKI COMMONS
URL:https://astorialic.org/event/a-virtual-tour-of-astoria-with-kevin-walsh-of-forgotten-ny-2/
END:VEVENT
BEGIN:VEVENT
DTSTART;TZID=UTC:20210128T190000
DTEND;TZID=UTC:20210128T190000
DTSTAMP:20260420T071513
CREATED:20210121T033221Z
LAST-MODIFIED:20210121T033221Z
UID:28397-1611860400-1611860400@astorialic.org
SUMMARY:A VIRTUAL TOUR OF ASTORIA! with Kevin Walsh of Forgotten NY
DESCRIPTION:Take a Virtual Astoria Walk with Kevin Walsh\nThe Webmaster of the Legendary Website ‘Forgotten New York’\n(With Assistance from Bob Singleton\, Astoria Historical Society)\nJANUARY 28 at 7:00 pm \nA virtual tour on Zoom.\nPlease RSVP by 5:30 pm\, Monday\, 01/28/2021\, subject-line “ASTORIAPARK” to info@astorialic.org .\n PHOTO:WIKI COMMONS
URL:https://astorialic.org/event/a-virtual-tour-of-astoria-with-kevin-walsh-of-forgotten-ny-3/
END:VEVENT
BEGIN:VEVENT
DTSTART;TZID=UTC:20210128T190000
DTEND;TZID=UTC:20210128T190000
DTSTAMP:20260420T071513
CREATED:20210121T033221Z
LAST-MODIFIED:20210121T033221Z
UID:28468-1611860400-1611860400@astorialic.org
SUMMARY:A VIRTUAL TOUR OF ASTORIA! with Kevin Walsh of Forgotten NY
DESCRIPTION:Take a Virtual Astoria Walk with Kevin Walsh\nThe Webmaster of the Legendary Website ‘Forgotten New York’\n(With Assistance from Bob Singleton\, Astoria Historical Society)\nJANUARY 28 at 7:00 pm \nA virtual tour on Zoom.\nPlease RSVP by 5:30 pm\, Monday\, 01/28/2021\, subject-line “ASTORIAPARK” to info@astorialic.org .\n PHOTO:WIKI COMMONS
URL:https://astorialic.org/event/a-virtual-tour-of-astoria-with-kevin-walsh-of-forgotten-ny-4/
END:VEVENT
BEGIN:VEVENT
DTSTART;TZID=UTC:20201221T190000
DTEND;TZID=UTC:20201221T190000
DTSTAMP:20260420T071513
CREATED:20201212T045818Z
LAST-MODIFIED:20201212T045818Z
UID:7127-1608577200-1608577200@astorialic.org
SUMMARY:The Greater Astoria Historical Society Presents Christmas  time Animal Tales of  Jolly Old Gotham  Animal Stories That Made the Holiday Headlines  in Old New York
DESCRIPTION:[smartslider3 slider=18]
URL:https://astorialic.org/event/the-greater-astoria-historical-society-presents-christmas-time-animal-tales-of-jolly-old-gotham-animal-stories-that-made-the-holiday-headlines-in-old-new-york/
END:VEVENT
BEGIN:VEVENT
DTSTART;TZID=UTC:20201221T190000
DTEND;TZID=UTC:20201221T190000
DTSTAMP:20260420T071513
CREATED:20201212T045818Z
LAST-MODIFIED:20201212T045818Z
UID:28320-1608577200-1608577200@astorialic.org
SUMMARY:The Greater Astoria Historical Society Presents Christmas  time Animal Tales of  Jolly Old Gotham  Animal Stories That Made the Holiday Headlines  in Old New York
DESCRIPTION:[smartslider3 slider=18]
URL:https://astorialic.org/event/the-greater-astoria-historical-society-presents-christmas-time-animal-tales-of-jolly-old-gotham-animal-stories-that-made-the-holiday-headlines-in-old-new-york-2/
END:VEVENT
BEGIN:VEVENT
DTSTART;TZID=UTC:20201221T190000
DTEND;TZID=UTC:20201221T190000
DTSTAMP:20260420T071513
CREATED:20201212T045818Z
LAST-MODIFIED:20201212T045818Z
UID:28383-1608577200-1608577200@astorialic.org
SUMMARY:The Greater Astoria Historical Society Presents Christmas  time Animal Tales of  Jolly Old Gotham  Animal Stories That Made the Holiday Headlines  in Old New York
DESCRIPTION:[smartslider3 slider=18]
URL:https://astorialic.org/event/the-greater-astoria-historical-society-presents-christmas-time-animal-tales-of-jolly-old-gotham-animal-stories-that-made-the-holiday-headlines-in-old-new-york-3/
END:VEVENT
BEGIN:VEVENT
DTSTART;TZID=UTC:20201221T190000
DTEND;TZID=UTC:20201221T190000
DTSTAMP:20260420T071513
CREATED:20201212T045818Z
LAST-MODIFIED:20201212T045818Z
UID:28454-1608577200-1608577200@astorialic.org
SUMMARY:The Greater Astoria Historical Society Presents Christmas  time Animal Tales of  Jolly Old Gotham  Animal Stories That Made the Holiday Headlines  in Old New York
DESCRIPTION:[smartslider3 slider=18]
URL:https://astorialic.org/event/the-greater-astoria-historical-society-presents-christmas-time-animal-tales-of-jolly-old-gotham-animal-stories-that-made-the-holiday-headlines-in-old-new-york-4/
END:VEVENT
BEGIN:VEVENT
DTSTART;TZID=UTC:20201214T190000
DTEND;TZID=UTC:20201214T190000
DTSTAMP:20260420T071513
CREATED:20201129T210632Z
LAST-MODIFIED:20201129T210632Z
UID:5602-1607972400-1607972400@astorialic.org
SUMMARY:An evening with Kyle Hurst – Founder of BIG aLICe BREWING Co.
DESCRIPTION:Greater Astoria Historical Society Holiday Party \n Please join us for our annual\n‘Tis the Season’\nVirtual Holiday Party\nfor fun and good conversation \nSpecial Program:  Kyle Hurst\, President and\nCo-Founder of \n \nFor the past 2 years\, you’ve enjoyed their beer at our holiday party\, now learn the back story of this award-winning beer.   \nWhy not pick up a 4 pack to enjoy at the party \nhttp://www.bigalicebrewing.com/ \nSpecial Guests:\nMusical Holiday Performance by\nNatalia “The Sawlday” Paruz \nA Magical Sing a Long brought to you by the\n“Museum of Interesting Things” \nA reading about a man with a beard…..\nwho could that be??????? \nAnyone who donates at least $25 during the program will be entered into a raffle for a $50 gift certificate to\nBigaLICe Brewery Co. and a Musical CD from The Sawlady. \nYou must RSVP by Monday\, December 14 at 5 PM\nwith the subject line “BEER”  
URL:https://astorialic.org/event/an-evening-with-kyle-hurst-founder-of-big-alice-brewing-co/
END:VEVENT
BEGIN:VEVENT
DTSTART;TZID=UTC:20201214T190000
DTEND;TZID=UTC:20201214T190000
DTSTAMP:20260420T071513
CREATED:20201129T210632Z
LAST-MODIFIED:20201129T210632Z
UID:28333-1607972400-1607972400@astorialic.org
SUMMARY:An evening with Kyle Hurst – Founder of BIG aLICe BREWING Co.
DESCRIPTION:Greater Astoria Historical Society Holiday Party \n Please join us for our annual\n‘Tis the Season’\nVirtual Holiday Party\nfor fun and good conversation \nSpecial Program:  Kyle Hurst\, President and\nCo-Founder of \n \nFor the past 2 years\, you’ve enjoyed their beer at our holiday party\, now learn the back story of this award-winning beer.   \nWhy not pick up a 4 pack to enjoy at the party \nhttp://www.bigalicebrewing.com/ \nSpecial Guests:\nMusical Holiday Performance by\nNatalia “The Sawlday” Paruz \nA Magical Sing a Long brought to you by the\n“Museum of Interesting Things” \nA reading about a man with a beard…..\nwho could that be??????? \nAnyone who donates at least $25 during the program will be entered into a raffle for a $50 gift certificate to\nBigaLICe Brewery Co. and a Musical CD from The Sawlady. \nYou must RSVP by Monday\, December 14 at 5 PM\nwith the subject line “BEER”  
URL:https://astorialic.org/event/an-evening-with-kyle-hurst-founder-of-big-alice-brewing-co-2/
END:VEVENT
BEGIN:VEVENT
DTSTART;TZID=UTC:20201214T190000
DTEND;TZID=UTC:20201214T190000
DTSTAMP:20260420T071513
CREATED:20201129T210632Z
LAST-MODIFIED:20201129T210632Z
UID:28396-1607972400-1607972400@astorialic.org
SUMMARY:An evening with Kyle Hurst – Founder of BIG aLICe BREWING Co.
DESCRIPTION:Greater Astoria Historical Society Holiday Party \n Please join us for our annual\n‘Tis the Season’\nVirtual Holiday Party\nfor fun and good conversation \nSpecial Program:  Kyle Hurst\, President and\nCo-Founder of \n \nFor the past 2 years\, you’ve enjoyed their beer at our holiday party\, now learn the back story of this award-winning beer.   \nWhy not pick up a 4 pack to enjoy at the party \nhttp://www.bigalicebrewing.com/ \nSpecial Guests:\nMusical Holiday Performance by\nNatalia “The Sawlday” Paruz \nA Magical Sing a Long brought to you by the\n“Museum of Interesting Things” \nA reading about a man with a beard…..\nwho could that be??????? \nAnyone who donates at least $25 during the program will be entered into a raffle for a $50 gift certificate to\nBigaLICe Brewery Co. and a Musical CD from The Sawlady. \nYou must RSVP by Monday\, December 14 at 5 PM\nwith the subject line “BEER”  
URL:https://astorialic.org/event/an-evening-with-kyle-hurst-founder-of-big-alice-brewing-co-3/
END:VEVENT
BEGIN:VEVENT
DTSTART;TZID=UTC:20201214T190000
DTEND;TZID=UTC:20201214T190000
DTSTAMP:20260420T071513
CREATED:20201129T210632Z
LAST-MODIFIED:20201129T210632Z
UID:28467-1607972400-1607972400@astorialic.org
SUMMARY:An evening with Kyle Hurst – Founder of BIG aLICe BREWING Co.
DESCRIPTION:Greater Astoria Historical Society Holiday Party \n Please join us for our annual\n‘Tis the Season’\nVirtual Holiday Party\nfor fun and good conversation \nSpecial Program:  Kyle Hurst\, President and\nCo-Founder of \n \nFor the past 2 years\, you’ve enjoyed their beer at our holiday party\, now learn the back story of this award-winning beer.   \nWhy not pick up a 4 pack to enjoy at the party \nhttp://www.bigalicebrewing.com/ \nSpecial Guests:\nMusical Holiday Performance by\nNatalia “The Sawlday” Paruz \nA Magical Sing a Long brought to you by the\n“Museum of Interesting Things” \nA reading about a man with a beard…..\nwho could that be??????? \nAnyone who donates at least $25 during the program will be entered into a raffle for a $50 gift certificate to\nBigaLICe Brewery Co. and a Musical CD from The Sawlady. \nYou must RSVP by Monday\, December 14 at 5 PM\nwith the subject line “BEER”  
URL:https://astorialic.org/event/an-evening-with-kyle-hurst-founder-of-big-alice-brewing-co-4/
END:VEVENT
BEGIN:VEVENT
DTSTART;TZID=UTC:20201203T190000
DTEND;TZID=UTC:20201203T190000
DTSTAMP:20260420T071513
CREATED:20201129T210153Z
LAST-MODIFIED:20201129T210153Z
UID:5600-1607022000-1607022000@astorialic.org
SUMMARY:Take a Virtual Walk in Mott Haven with Kevin Walsh  Webmaster of the Legendary Website FORGOTTEN NEW YORK!
DESCRIPTION:Take a Virtual Walk in Mott Haven with Kevin Walsh \nWebmaster of the Legendary Website\nFORGOTTEN NEW YORK! \n353 E. 138th Street between Willis Ave. & Alexander Aves \nDecember 3 at 7:00 pm \nPlease RSVP by 5:30 pm the day of the event (Thursday 12/03)\nwith the subject-line “MOTTHAVEN” to info@astorialic.org .
URL:https://astorialic.org/event/take-a-virtual-walk-in-mott-haven-with-kevin-walsh-webmaster-of-the-legendary-website-forgotten-new-york/
END:VEVENT
BEGIN:VEVENT
DTSTART;TZID=UTC:20201203T190000
DTEND;TZID=UTC:20201203T190000
DTSTAMP:20260420T071513
CREATED:20201129T210153Z
LAST-MODIFIED:20201129T210153Z
UID:28332-1607022000-1607022000@astorialic.org
SUMMARY:Take a Virtual Walk in Mott Haven with Kevin Walsh  Webmaster of the Legendary Website FORGOTTEN NEW YORK!
DESCRIPTION:Take a Virtual Walk in Mott Haven with Kevin Walsh \nWebmaster of the Legendary Website\nFORGOTTEN NEW YORK! \n353 E. 138th Street between Willis Ave. & Alexander Aves \nDecember 3 at 7:00 pm \nPlease RSVP by 5:30 pm the day of the event (Thursday 12/03)\nwith the subject-line “MOTTHAVEN” to info@astorialic.org .
URL:https://astorialic.org/event/take-a-virtual-walk-in-mott-haven-with-kevin-walsh-webmaster-of-the-legendary-website-forgotten-new-york-2/
END:VEVENT
BEGIN:VEVENT
DTSTART;TZID=UTC:20201203T190000
DTEND;TZID=UTC:20201203T190000
DTSTAMP:20260420T071513
CREATED:20201129T210153Z
LAST-MODIFIED:20201129T210153Z
UID:28395-1607022000-1607022000@astorialic.org
SUMMARY:Take a Virtual Walk in Mott Haven with Kevin Walsh  Webmaster of the Legendary Website FORGOTTEN NEW YORK!
DESCRIPTION:Take a Virtual Walk in Mott Haven with Kevin Walsh \nWebmaster of the Legendary Website\nFORGOTTEN NEW YORK! \n353 E. 138th Street between Willis Ave. & Alexander Aves \nDecember 3 at 7:00 pm \nPlease RSVP by 5:30 pm the day of the event (Thursday 12/03)\nwith the subject-line “MOTTHAVEN” to info@astorialic.org .
URL:https://astorialic.org/event/take-a-virtual-walk-in-mott-haven-with-kevin-walsh-webmaster-of-the-legendary-website-forgotten-new-york-3/
END:VEVENT
BEGIN:VEVENT
DTSTART;TZID=UTC:20201203T190000
DTEND;TZID=UTC:20201203T190000
DTSTAMP:20260420T071513
CREATED:20201129T210153Z
LAST-MODIFIED:20201129T210153Z
UID:28466-1607022000-1607022000@astorialic.org
SUMMARY:Take a Virtual Walk in Mott Haven with Kevin Walsh  Webmaster of the Legendary Website FORGOTTEN NEW YORK!
DESCRIPTION:Take a Virtual Walk in Mott Haven with Kevin Walsh \nWebmaster of the Legendary Website\nFORGOTTEN NEW YORK! \n353 E. 138th Street between Willis Ave. & Alexander Aves \nDecember 3 at 7:00 pm \nPlease RSVP by 5:30 pm the day of the event (Thursday 12/03)\nwith the subject-line “MOTTHAVEN” to info@astorialic.org .
URL:https://astorialic.org/event/take-a-virtual-walk-in-mott-haven-with-kevin-walsh-webmaster-of-the-legendary-website-forgotten-new-york-4/
END:VEVENT
BEGIN:VEVENT
DTSTART;TZID=UTC:20201116T190000
DTEND;TZID=UTC:20201116T190000
DTSTAMP:20260420T071513
CREATED:20201103T051105Z
LAST-MODIFIED:20201103T051105Z
UID:5290-1605553200-1605553200@astorialic.org
SUMMARY:Native Americans of Queens & Long Island
DESCRIPTION:  \n \n\n\n\n\n\n\n\n\n\n\n\n\n\n\n\n\nTecumseh Ceaser is a traditional Wampum Carver and Cultural Consultant of Matinecock Turkey clan of Queens\, NY. and Long Island\, Wampanoag\, and Blackfoot descent. He will present on local Native culture\, history\, customs\, and identity.\nAn active member of both the urban Native community as well as the local Eastern Woodlands community\, his work includes cultural\, language\, and ceremony revitalization and preservation. Tecumseh is also a member of the Long Island Native American Graves Protection group and an Advisor for the Global Indigenous Youth Caucus at the United Nations. During his presentation\, he will pull from his learnings from Native elders as well as his advocacy work. \nPlease RSVP by 5:30 pm the day of the event (Mon. 11/16) with “NATIVE QUEENS” in the subject line to info@astorialic.org . \nYou will receive the Zoom link via email within the hour before the program begins at 7 pm. \n\n\n\n\n\n\n\n\n\n\n\n\n\n\n\n\n 
URL:https://astorialic.org/event/native-americans-of-queens-long-island/
END:VEVENT
BEGIN:VEVENT
DTSTART;TZID=UTC:20201116T190000
DTEND;TZID=UTC:20201116T190000
DTSTAMP:20260420T071513
CREATED:20201103T051105Z
LAST-MODIFIED:20201103T051105Z
UID:28319-1605553200-1605553200@astorialic.org
SUMMARY:Native Americans of Queens & Long Island
DESCRIPTION:  \n \n\n\n\n\n\n\n\n\n\n\n\n\n\n\n\n\nTecumseh Ceaser is a traditional Wampum Carver and Cultural Consultant of Matinecock Turkey clan of Queens\, NY. and Long Island\, Wampanoag\, and Blackfoot descent. He will present on local Native culture\, history\, customs\, and identity.\nAn active member of both the urban Native community as well as the local Eastern Woodlands community\, his work includes cultural\, language\, and ceremony revitalization and preservation. Tecumseh is also a member of the Long Island Native American Graves Protection group and an Advisor for the Global Indigenous Youth Caucus at the United Nations. During his presentation\, he will pull from his learnings from Native elders as well as his advocacy work. \nPlease RSVP by 5:30 pm the day of the event (Mon. 11/16) with “NATIVE QUEENS” in the subject line to info@astorialic.org . \nYou will receive the Zoom link via email within the hour before the program begins at 7 pm. \n\n\n\n\n\n\n\n\n\n\n\n\n\n\n\n\n 
URL:https://astorialic.org/event/native-americans-of-queens-long-island-2/
END:VEVENT
BEGIN:VEVENT
DTSTART;TZID=UTC:20201116T190000
DTEND;TZID=UTC:20201116T190000
DTSTAMP:20260420T071513
CREATED:20201103T051105Z
LAST-MODIFIED:20201103T051105Z
UID:28382-1605553200-1605553200@astorialic.org
SUMMARY:Native Americans of Queens & Long Island
DESCRIPTION:  \n \n\n\n\n\n\n\n\n\n\n\n\n\n\n\n\n\nTecumseh Ceaser is a traditional Wampum Carver and Cultural Consultant of Matinecock Turkey clan of Queens\, NY. and Long Island\, Wampanoag\, and Blackfoot descent. He will present on local Native culture\, history\, customs\, and identity.\nAn active member of both the urban Native community as well as the local Eastern Woodlands community\, his work includes cultural\, language\, and ceremony revitalization and preservation. Tecumseh is also a member of the Long Island Native American Graves Protection group and an Advisor for the Global Indigenous Youth Caucus at the United Nations. During his presentation\, he will pull from his learnings from Native elders as well as his advocacy work. \nPlease RSVP by 5:30 pm the day of the event (Mon. 11/16) with “NATIVE QUEENS” in the subject line to info@astorialic.org . \nYou will receive the Zoom link via email within the hour before the program begins at 7 pm. \n\n\n\n\n\n\n\n\n\n\n\n\n\n\n\n\n 
URL:https://astorialic.org/event/native-americans-of-queens-long-island-3/
END:VEVENT
BEGIN:VEVENT
DTSTART;TZID=UTC:20201116T190000
DTEND;TZID=UTC:20201116T190000
DTSTAMP:20260420T071513
CREATED:20201103T051105Z
LAST-MODIFIED:20201103T051105Z
UID:28453-1605553200-1605553200@astorialic.org
SUMMARY:Native Americans of Queens & Long Island
DESCRIPTION:  \n \n\n\n\n\n\n\n\n\n\n\n\n\n\n\n\n\nTecumseh Ceaser is a traditional Wampum Carver and Cultural Consultant of Matinecock Turkey clan of Queens\, NY. and Long Island\, Wampanoag\, and Blackfoot descent. He will present on local Native culture\, history\, customs\, and identity.\nAn active member of both the urban Native community as well as the local Eastern Woodlands community\, his work includes cultural\, language\, and ceremony revitalization and preservation. Tecumseh is also a member of the Long Island Native American Graves Protection group and an Advisor for the Global Indigenous Youth Caucus at the United Nations. During his presentation\, he will pull from his learnings from Native elders as well as his advocacy work. \nPlease RSVP by 5:30 pm the day of the event (Mon. 11/16) with “NATIVE QUEENS” in the subject line to info@astorialic.org . \nYou will receive the Zoom link via email within the hour before the program begins at 7 pm. \n\n\n\n\n\n\n\n\n\n\n\n\n\n\n\n\n 
URL:https://astorialic.org/event/native-americans-of-queens-long-island-4/
END:VEVENT
BEGIN:VEVENT
DTSTART;TZID=UTC:20201110T190000
DTEND;TZID=UTC:20201110T190000
DTSTAMP:20260420T071513
CREATED:20201103T050813Z
LAST-MODIFIED:20201103T050813Z
UID:5287-1605034800-1605034800@astorialic.org
SUMMARY:Book Talk: Plagues\, Pandemics & Viruses
DESCRIPTION:Join author & Greater Astoria Historical Society Board Member\, Heather Quinlan\, as she discusses her new & most timely book\, “Pandemics\, Plagues & Viruses”.\nPlease RSVP by 5:30 pm the day of the event (Tues. 11/10) with the subject line “PLAGUES” to info@astorialic.org . \nYou will then receive the Zoom link via email within the hour before the program begins at 7 pm. \n\n\n\n\n\n\n\n\n\n\n\n\n\n\n\n\n\n 
URL:https://astorialic.org/event/book-talk-plagues-pandemics-viruses/
END:VEVENT
BEGIN:VEVENT
DTSTART;TZID=UTC:20201110T190000
DTEND;TZID=UTC:20201110T190000
DTSTAMP:20260420T071513
CREATED:20201103T050813Z
LAST-MODIFIED:20201103T050813Z
UID:28318-1605034800-1605034800@astorialic.org
SUMMARY:Book Talk: Plagues\, Pandemics & Viruses
DESCRIPTION:Join author & Greater Astoria Historical Society Board Member\, Heather Quinlan\, as she discusses her new & most timely book\, “Pandemics\, Plagues & Viruses”.\nPlease RSVP by 5:30 pm the day of the event (Tues. 11/10) with the subject line “PLAGUES” to info@astorialic.org . \nYou will then receive the Zoom link via email within the hour before the program begins at 7 pm. \n\n\n\n\n\n\n\n\n\n\n\n\n\n\n\n\n\n 
URL:https://astorialic.org/event/book-talk-plagues-pandemics-viruses-2/
END:VEVENT
BEGIN:VEVENT
DTSTART;TZID=UTC:20201110T190000
DTEND;TZID=UTC:20201110T190000
DTSTAMP:20260420T071513
CREATED:20201103T050813Z
LAST-MODIFIED:20201103T050813Z
UID:28381-1605034800-1605034800@astorialic.org
SUMMARY:Book Talk: Plagues\, Pandemics & Viruses
DESCRIPTION:Join author & Greater Astoria Historical Society Board Member\, Heather Quinlan\, as she discusses her new & most timely book\, “Pandemics\, Plagues & Viruses”.\nPlease RSVP by 5:30 pm the day of the event (Tues. 11/10) with the subject line “PLAGUES” to info@astorialic.org . \nYou will then receive the Zoom link via email within the hour before the program begins at 7 pm. \n\n\n\n\n\n\n\n\n\n\n\n\n\n\n\n\n\n 
URL:https://astorialic.org/event/book-talk-plagues-pandemics-viruses-3/
END:VEVENT
BEGIN:VEVENT
DTSTART;TZID=UTC:20201110T190000
DTEND;TZID=UTC:20201110T190000
DTSTAMP:20260420T071513
CREATED:20201103T050813Z
LAST-MODIFIED:20201103T050813Z
UID:28452-1605034800-1605034800@astorialic.org
SUMMARY:Book Talk: Plagues\, Pandemics & Viruses
DESCRIPTION:Join author & Greater Astoria Historical Society Board Member\, Heather Quinlan\, as she discusses her new & most timely book\, “Pandemics\, Plagues & Viruses”.\nPlease RSVP by 5:30 pm the day of the event (Tues. 11/10) with the subject line “PLAGUES” to info@astorialic.org . \nYou will then receive the Zoom link via email within the hour before the program begins at 7 pm. \n\n\n\n\n\n\n\n\n\n\n\n\n\n\n\n\n\n 
URL:https://astorialic.org/event/book-talk-plagues-pandemics-viruses-4/
END:VEVENT
BEGIN:VEVENT
DTSTART;TZID=UTC:20201028T190000
DTEND;TZID=UTC:20201028T213000
DTSTAMP:20260420T071513
CREATED:20201023T040343Z
LAST-MODIFIED:20201023T040343Z
UID:3620-1603911600-1603920600@astorialic.org
SUMMARY:A Spooktacular Event!
DESCRIPTION:Halloween Fun Wednesday\, October 28th at 7 PM\nQueens Screams: A Night of Local Horror Shorts\nJoin the Greater Astoria Historical Society for a film screaming\, featuring scary\, spooky\, and creepy shorts all made by local Queens filmmakers.\nThe list of film makers is growing! We will provide a complete list next week.\nTo join in the fun\, you must RSVP to info@astorialic.org with the subject line HORROR by 5:30 on Wednesday 10/28.\nWe will send you the link to join about 20 minutes before we start. Wear your favorite mask for the event!
URL:https://astorialic.org/event/a-spooktacular-event/
END:VEVENT
BEGIN:VEVENT
DTSTART;TZID=UTC:20201028T190000
DTEND;TZID=UTC:20201028T213000
DTSTAMP:20260420T071513
CREATED:20201023T040343Z
LAST-MODIFIED:20201023T040343Z
UID:28317-1603911600-1603920600@astorialic.org
SUMMARY:A Spooktacular Event!
DESCRIPTION:Halloween Fun Wednesday\, October 28th at 7 PM\nQueens Screams: A Night of Local Horror Shorts\nJoin the Greater Astoria Historical Society for a film screaming\, featuring scary\, spooky\, and creepy shorts all made by local Queens filmmakers.\nThe list of film makers is growing! We will provide a complete list next week.\nTo join in the fun\, you must RSVP to info@astorialic.org with the subject line HORROR by 5:30 on Wednesday 10/28.\nWe will send you the link to join about 20 minutes before we start. Wear your favorite mask for the event!
URL:https://astorialic.org/event/a-spooktacular-event-2/
END:VEVENT
BEGIN:VEVENT
DTSTART;TZID=UTC:20201028T190000
DTEND;TZID=UTC:20201028T213000
DTSTAMP:20260420T071513
CREATED:20201023T040343Z
LAST-MODIFIED:20201023T040343Z
UID:28380-1603911600-1603920600@astorialic.org
SUMMARY:A Spooktacular Event!
DESCRIPTION:Halloween Fun Wednesday\, October 28th at 7 PM\nQueens Screams: A Night of Local Horror Shorts\nJoin the Greater Astoria Historical Society for a film screaming\, featuring scary\, spooky\, and creepy shorts all made by local Queens filmmakers.\nThe list of film makers is growing! We will provide a complete list next week.\nTo join in the fun\, you must RSVP to info@astorialic.org with the subject line HORROR by 5:30 on Wednesday 10/28.\nWe will send you the link to join about 20 minutes before we start. Wear your favorite mask for the event!
URL:https://astorialic.org/event/a-spooktacular-event-3/
END:VEVENT
BEGIN:VEVENT
DTSTART;TZID=UTC:20201028T190000
DTEND;TZID=UTC:20201028T213000
DTSTAMP:20260420T071513
CREATED:20201023T040343Z
LAST-MODIFIED:20201023T040343Z
UID:28451-1603911600-1603920600@astorialic.org
SUMMARY:A Spooktacular Event!
DESCRIPTION:Halloween Fun Wednesday\, October 28th at 7 PM\nQueens Screams: A Night of Local Horror Shorts\nJoin the Greater Astoria Historical Society for a film screaming\, featuring scary\, spooky\, and creepy shorts all made by local Queens filmmakers.\nThe list of film makers is growing! We will provide a complete list next week.\nTo join in the fun\, you must RSVP to info@astorialic.org with the subject line HORROR by 5:30 on Wednesday 10/28.\nWe will send you the link to join about 20 minutes before we start. Wear your favorite mask for the event!
URL:https://astorialic.org/event/a-spooktacular-event-4/
END:VEVENT
END:VCALENDAR