BEGIN:VCALENDAR
VERSION:2.0
PRODID:-//Greater Astoria Historical Society - ECPv6.15.18//NONSGML v1.0//EN
CALSCALE:GREGORIAN
METHOD:PUBLISH
X-WR-CALNAME:Greater Astoria Historical Society
X-ORIGINAL-URL:https://astorialic.org
X-WR-CALDESC:Events for Greater Astoria Historical Society
REFRESH-INTERVAL;VALUE=DURATION:PT1H
X-Robots-Tag:noindex
X-PUBLISHED-TTL:PT1H
BEGIN:VTIMEZONE
TZID:UTC
BEGIN:STANDARD
TZOFFSETFROM:+0000
TZOFFSETTO:+0000
TZNAME:UTC
DTSTART:20200101T000000
END:STANDARD
END:VTIMEZONE
BEGIN:VEVENT
DTSTART;TZID=UTC:20210727T190000
DTEND;TZID=UTC:20210727T203000
DTSTAMP:20260419T225150
CREATED:20210719T071907Z
LAST-MODIFIED:20210719T071907Z
UID:28322-1627412400-1627417800@astorialic.org
SUMMARY:Inside the Steinway Mansion a Virtual Tour
DESCRIPTION:Inside the Steinway Mansion a Virtual Tour\n\nWalk through the rooms and halls of the famed Steinway Mansion. \nExperience the interior of this landmarked home and see what it looked like for many years. \nTo get a ticket for the event click here\n 
URL:https://astorialic.org/event/inside-the-steinway-mansion-a-virtual-tour-2/
END:VEVENT
BEGIN:VEVENT
DTSTART;TZID=UTC:20210727T190000
DTEND;TZID=UTC:20210727T203000
DTSTAMP:20260419T225150
CREATED:20210719T071907Z
LAST-MODIFIED:20210719T071907Z
UID:28385-1627412400-1627417800@astorialic.org
SUMMARY:Inside the Steinway Mansion a Virtual Tour
DESCRIPTION:Inside the Steinway Mansion a Virtual Tour\n\nWalk through the rooms and halls of the famed Steinway Mansion. \nExperience the interior of this landmarked home and see what it looked like for many years. \nTo get a ticket for the event click here\n 
URL:https://astorialic.org/event/inside-the-steinway-mansion-a-virtual-tour-3/
END:VEVENT
BEGIN:VEVENT
DTSTART;TZID=UTC:20210727T190000
DTEND;TZID=UTC:20210727T203000
DTSTAMP:20260419T225150
CREATED:20210719T071907Z
LAST-MODIFIED:20210719T071907Z
UID:28456-1627412400-1627417800@astorialic.org
SUMMARY:Inside the Steinway Mansion a Virtual Tour
DESCRIPTION:Inside the Steinway Mansion a Virtual Tour\n\nWalk through the rooms and halls of the famed Steinway Mansion. \nExperience the interior of this landmarked home and see what it looked like for many years. \nTo get a ticket for the event click here\n 
URL:https://astorialic.org/event/inside-the-steinway-mansion-a-virtual-tour-4/
END:VEVENT
BEGIN:VEVENT
DTSTART;TZID=UTC:20210614T080000
DTEND;TZID=UTC:20210621T170000
DTSTAMP:20260419T225150
CREATED:20210615T061853Z
LAST-MODIFIED:20210615T061853Z
UID:8347-1623657600-1624294800@astorialic.org
SUMMARY:LIC ART HUNT!
DESCRIPTION:DISCOVER THE PUBLIC ARTWORK OF LIC!\nA Self-Guided Scavenger Hunt! Win Prizes! Have Fun! Discover LIC!\nHere is a link to the Scavenger Hunt\n\nJune 14 to June 27\, 2021\nLIC Partnership’s “LIC Springs to Summer!”\n\nMore info here:
URL:https://astorialic.org/event/lic-art-hunt/
END:VEVENT
BEGIN:VEVENT
DTSTART;TZID=UTC:20210614T080000
DTEND;TZID=UTC:20210621T170000
DTSTAMP:20260419T225150
CREATED:20210615T061853Z
LAST-MODIFIED:20210615T061853Z
UID:28352-1623657600-1624294800@astorialic.org
SUMMARY:LIC ART HUNT!
DESCRIPTION:DISCOVER THE PUBLIC ARTWORK OF LIC!\nA Self-Guided Scavenger Hunt! Win Prizes! Have Fun! Discover LIC!\nHere is a link to the Scavenger Hunt\n\nJune 14 to June 27\, 2021\nLIC Partnership’s “LIC Springs to Summer!”\n\nMore info here:
URL:https://astorialic.org/event/lic-art-hunt-2/
END:VEVENT
BEGIN:VEVENT
DTSTART;TZID=UTC:20210614T080000
DTEND;TZID=UTC:20210621T170000
DTSTAMP:20260419T225150
CREATED:20210615T061853Z
LAST-MODIFIED:20210615T061853Z
UID:28415-1623657600-1624294800@astorialic.org
SUMMARY:LIC ART HUNT!
DESCRIPTION:DISCOVER THE PUBLIC ARTWORK OF LIC!\nA Self-Guided Scavenger Hunt! Win Prizes! Have Fun! Discover LIC!\nHere is a link to the Scavenger Hunt\n\nJune 14 to June 27\, 2021\nLIC Partnership’s “LIC Springs to Summer!”\n\nMore info here:
URL:https://astorialic.org/event/lic-art-hunt-3/
END:VEVENT
BEGIN:VEVENT
DTSTART;TZID=UTC:20210614T080000
DTEND;TZID=UTC:20210621T170000
DTSTAMP:20260419T225150
CREATED:20210615T061853Z
LAST-MODIFIED:20210615T061853Z
UID:28486-1623657600-1624294800@astorialic.org
SUMMARY:LIC ART HUNT!
DESCRIPTION:DISCOVER THE PUBLIC ARTWORK OF LIC!\nA Self-Guided Scavenger Hunt! Win Prizes! Have Fun! Discover LIC!\nHere is a link to the Scavenger Hunt\n\nJune 14 to June 27\, 2021\nLIC Partnership’s “LIC Springs to Summer!”\n\nMore info here:
URL:https://astorialic.org/event/lic-art-hunt-4/
END:VEVENT
BEGIN:VEVENT
DTSTART;TZID=UTC:20210609T190000
DTEND;TZID=UTC:20210609T203000
DTSTAMP:20260419T225150
CREATED:20210525T061000Z
LAST-MODIFIED:20210525T061000Z
UID:8243-1623265200-1623270600@astorialic.org
SUMMARY:Sunnyside Gardens - by Dr. Jeffrey Kroessler
DESCRIPTION:Sunnyside Gardens by Jeff Kroessler!\n \nThe first book devoted to this landmark\nof architecture\, urban planning\, and social engineering.\nSituated in the borough of Queens\, New York\, Sunnyside Gardens has been an icon of urbanism and planning since its inception in the 1920s. Sunnyside Gardens nevertheless endures as significant both in terms of the planning principles that inspired its creators and in its subsequent history.\nWhy this garden suburb was built and how it has fared over its first century is at the heart of Sunnyside Gardens. \nhttps://www.eventbrite.com/e/sunnyside-gardens-planning-and-preservation-in-a-historic-garden-suburb-tickets-156597646777 \nJeffrey Kroessler is a Professor at the Lloyd Sealy Library\, John Jay College of Criminal Justice\, CUNY\, and author of The Greater New York Sports Chronology; New York\, Year by Year: A Chronology of the Great Metropolis; Historic Preservation in Queens; and other works. \nSigned copies available at the Astoria Bookshop!
URL:https://astorialic.org/event/sunnyside-gardens-by-dr-jeffrey-kroessler/
END:VEVENT
BEGIN:VEVENT
DTSTART;TZID=UTC:20210609T190000
DTEND;TZID=UTC:20210609T203000
DTSTAMP:20260419T225150
CREATED:20210525T061000Z
LAST-MODIFIED:20210525T061000Z
UID:28344-1623265200-1623270600@astorialic.org
SUMMARY:Sunnyside Gardens - by Dr. Jeffrey Kroessler
DESCRIPTION:Sunnyside Gardens by Jeff Kroessler!\n \nThe first book devoted to this landmark\nof architecture\, urban planning\, and social engineering.\nSituated in the borough of Queens\, New York\, Sunnyside Gardens has been an icon of urbanism and planning since its inception in the 1920s. Sunnyside Gardens nevertheless endures as significant both in terms of the planning principles that inspired its creators and in its subsequent history.\nWhy this garden suburb was built and how it has fared over its first century is at the heart of Sunnyside Gardens. \nhttps://www.eventbrite.com/e/sunnyside-gardens-planning-and-preservation-in-a-historic-garden-suburb-tickets-156597646777 \nJeffrey Kroessler is a Professor at the Lloyd Sealy Library\, John Jay College of Criminal Justice\, CUNY\, and author of The Greater New York Sports Chronology; New York\, Year by Year: A Chronology of the Great Metropolis; Historic Preservation in Queens; and other works. \nSigned copies available at the Astoria Bookshop!
URL:https://astorialic.org/event/sunnyside-gardens-by-dr-jeffrey-kroessler-2/
END:VEVENT
BEGIN:VEVENT
DTSTART;TZID=UTC:20210609T190000
DTEND;TZID=UTC:20210609T203000
DTSTAMP:20260419T225150
CREATED:20210525T061000Z
LAST-MODIFIED:20210525T061000Z
UID:28407-1623265200-1623270600@astorialic.org
SUMMARY:Sunnyside Gardens - by Dr. Jeffrey Kroessler
DESCRIPTION:Sunnyside Gardens by Jeff Kroessler!\n \nThe first book devoted to this landmark\nof architecture\, urban planning\, and social engineering.\nSituated in the borough of Queens\, New York\, Sunnyside Gardens has been an icon of urbanism and planning since its inception in the 1920s. Sunnyside Gardens nevertheless endures as significant both in terms of the planning principles that inspired its creators and in its subsequent history.\nWhy this garden suburb was built and how it has fared over its first century is at the heart of Sunnyside Gardens. \nhttps://www.eventbrite.com/e/sunnyside-gardens-planning-and-preservation-in-a-historic-garden-suburb-tickets-156597646777 \nJeffrey Kroessler is a Professor at the Lloyd Sealy Library\, John Jay College of Criminal Justice\, CUNY\, and author of The Greater New York Sports Chronology; New York\, Year by Year: A Chronology of the Great Metropolis; Historic Preservation in Queens; and other works. \nSigned copies available at the Astoria Bookshop!
URL:https://astorialic.org/event/sunnyside-gardens-by-dr-jeffrey-kroessler-3/
END:VEVENT
BEGIN:VEVENT
DTSTART;TZID=UTC:20210609T190000
DTEND;TZID=UTC:20210609T203000
DTSTAMP:20260419T225150
CREATED:20210525T061000Z
LAST-MODIFIED:20210525T061000Z
UID:28478-1623265200-1623270600@astorialic.org
SUMMARY:Sunnyside Gardens - by Dr. Jeffrey Kroessler
DESCRIPTION:Sunnyside Gardens by Jeff Kroessler!\n \nThe first book devoted to this landmark\nof architecture\, urban planning\, and social engineering.\nSituated in the borough of Queens\, New York\, Sunnyside Gardens has been an icon of urbanism and planning since its inception in the 1920s. Sunnyside Gardens nevertheless endures as significant both in terms of the planning principles that inspired its creators and in its subsequent history.\nWhy this garden suburb was built and how it has fared over its first century is at the heart of Sunnyside Gardens. \nhttps://www.eventbrite.com/e/sunnyside-gardens-planning-and-preservation-in-a-historic-garden-suburb-tickets-156597646777 \nJeffrey Kroessler is a Professor at the Lloyd Sealy Library\, John Jay College of Criminal Justice\, CUNY\, and author of The Greater New York Sports Chronology; New York\, Year by Year: A Chronology of the Great Metropolis; Historic Preservation in Queens; and other works. \nSigned copies available at the Astoria Bookshop!
URL:https://astorialic.org/event/sunnyside-gardens-by-dr-jeffrey-kroessler-4/
END:VEVENT
BEGIN:VEVENT
DTSTART;TZID=UTC:20210607T190000
DTEND;TZID=UTC:20210607T203000
DTSTAMP:20260419T225150
CREATED:20210323T013843Z
LAST-MODIFIED:20210323T013843Z
UID:7680-1623092400-1623097800@astorialic.org
SUMMARY:Forgotten Queens Part 1
DESCRIPTION:FORGOTTEN QUEENS – PART 1! \n\n\n\n\n\n\n\n\n\n115th Avenue and 148th Street\, Jamaica\, NY (c. 1930) \n\n\n\n\n\n\nTake a virtual walk back in time through the borough of Queens and explore the streets of long ago. \nPart 1: Long Island City and Town of Jamaica \nJune 7 at 7:00 pm \n\n\n\n\n\n\nhttps://www.eventbrite.com/e/forgotten-queens-tickets-155728990603
URL:https://astorialic.org/event/forgotten-queens-part-1/
END:VEVENT
BEGIN:VEVENT
DTSTART;TZID=UTC:20210607T190000
DTEND;TZID=UTC:20210607T203000
DTSTAMP:20260419T225150
CREATED:20210323T013843Z
LAST-MODIFIED:20210323T013843Z
UID:28336-1623092400-1623097800@astorialic.org
SUMMARY:Forgotten Queens Part 1
DESCRIPTION:FORGOTTEN QUEENS – PART 1! \n\n\n\n\n\n\n\n\n\n115th Avenue and 148th Street\, Jamaica\, NY (c. 1930) \n\n\n\n\n\n\nTake a virtual walk back in time through the borough of Queens and explore the streets of long ago. \nPart 1: Long Island City and Town of Jamaica \nJune 7 at 7:00 pm \n\n\n\n\n\n\nhttps://www.eventbrite.com/e/forgotten-queens-tickets-155728990603
URL:https://astorialic.org/event/forgotten-queens-part-1-2/
END:VEVENT
BEGIN:VEVENT
DTSTART;TZID=UTC:20210607T190000
DTEND;TZID=UTC:20210607T203000
DTSTAMP:20260419T225150
CREATED:20210323T013843Z
LAST-MODIFIED:20210323T013843Z
UID:28399-1623092400-1623097800@astorialic.org
SUMMARY:Forgotten Queens Part 1
DESCRIPTION:FORGOTTEN QUEENS – PART 1! \n\n\n\n\n\n\n\n\n\n115th Avenue and 148th Street\, Jamaica\, NY (c. 1930) \n\n\n\n\n\n\nTake a virtual walk back in time through the borough of Queens and explore the streets of long ago. \nPart 1: Long Island City and Town of Jamaica \nJune 7 at 7:00 pm \n\n\n\n\n\n\nhttps://www.eventbrite.com/e/forgotten-queens-tickets-155728990603
URL:https://astorialic.org/event/forgotten-queens-part-1-3/
END:VEVENT
BEGIN:VEVENT
DTSTART;TZID=UTC:20210607T190000
DTEND;TZID=UTC:20210607T203000
DTSTAMP:20260419T225150
CREATED:20210323T013843Z
LAST-MODIFIED:20210323T013843Z
UID:28470-1623092400-1623097800@astorialic.org
SUMMARY:Forgotten Queens Part 1
DESCRIPTION:FORGOTTEN QUEENS – PART 1! \n\n\n\n\n\n\n\n\n\n115th Avenue and 148th Street\, Jamaica\, NY (c. 1930) \n\n\n\n\n\n\nTake a virtual walk back in time through the borough of Queens and explore the streets of long ago. \nPart 1: Long Island City and Town of Jamaica \nJune 7 at 7:00 pm \n\n\n\n\n\n\nhttps://www.eventbrite.com/e/forgotten-queens-tickets-155728990603
URL:https://astorialic.org/event/forgotten-queens-part-1-4/
END:VEVENT
BEGIN:VEVENT
DTSTART;TZID=UTC:20210512T190000
DTEND;TZID=UTC:20210512T203000
DTSTAMP:20260419T225150
CREATED:20210323T014612Z
LAST-MODIFIED:20210323T014612Z
UID:7682-1620846000-1620851400@astorialic.org
SUMMARY:MAKING MOVIE MAGIC – GREAT GATSBY!
DESCRIPTION:“The Great Gatsby” BazMark Productions (2015)\n1920 Virtual Walking Tour of New York City \nDirector Baz Lurhman faced a daunting task in 2013 when he decided to do a remake of F Scott Fitzgerald’s The Great Gatsby. This was made possible from research compiled by the Greater Astoria Historical Society that Baz and his crew dubbed ‘The Bible.’ It enabled Baz to create a vision of 1920s New York earning him several Academy Awards. \nMeet Jay Gatsby and the gang. Bob Singleton invites you to step into their world for a virtual walking tour.\nMay 12 at 7:00 pm \nMake your reservation here: \nhttps://www.eventbrite.com/myevent?eid=151731361587
URL:https://astorialic.org/event/making-movie-magic-great-gatsby/
END:VEVENT
BEGIN:VEVENT
DTSTART;TZID=UTC:20210512T190000
DTEND;TZID=UTC:20210512T203000
DTSTAMP:20260419T225150
CREATED:20210323T014612Z
LAST-MODIFIED:20210323T014612Z
UID:28337-1620846000-1620851400@astorialic.org
SUMMARY:MAKING MOVIE MAGIC – GREAT GATSBY!
DESCRIPTION:“The Great Gatsby” BazMark Productions (2015)\n1920 Virtual Walking Tour of New York City \nDirector Baz Lurhman faced a daunting task in 2013 when he decided to do a remake of F Scott Fitzgerald’s The Great Gatsby. This was made possible from research compiled by the Greater Astoria Historical Society that Baz and his crew dubbed ‘The Bible.’ It enabled Baz to create a vision of 1920s New York earning him several Academy Awards. \nMeet Jay Gatsby and the gang. Bob Singleton invites you to step into their world for a virtual walking tour.\nMay 12 at 7:00 pm \nMake your reservation here: \nhttps://www.eventbrite.com/myevent?eid=151731361587
URL:https://astorialic.org/event/making-movie-magic-great-gatsby-2/
END:VEVENT
BEGIN:VEVENT
DTSTART;TZID=UTC:20210512T190000
DTEND;TZID=UTC:20210512T203000
DTSTAMP:20260419T225150
CREATED:20210323T014612Z
LAST-MODIFIED:20210323T014612Z
UID:28400-1620846000-1620851400@astorialic.org
SUMMARY:MAKING MOVIE MAGIC – GREAT GATSBY!
DESCRIPTION:“The Great Gatsby” BazMark Productions (2015)\n1920 Virtual Walking Tour of New York City \nDirector Baz Lurhman faced a daunting task in 2013 when he decided to do a remake of F Scott Fitzgerald’s The Great Gatsby. This was made possible from research compiled by the Greater Astoria Historical Society that Baz and his crew dubbed ‘The Bible.’ It enabled Baz to create a vision of 1920s New York earning him several Academy Awards. \nMeet Jay Gatsby and the gang. Bob Singleton invites you to step into their world for a virtual walking tour.\nMay 12 at 7:00 pm \nMake your reservation here: \nhttps://www.eventbrite.com/myevent?eid=151731361587
URL:https://astorialic.org/event/making-movie-magic-great-gatsby-3/
END:VEVENT
BEGIN:VEVENT
DTSTART;TZID=UTC:20210512T190000
DTEND;TZID=UTC:20210512T203000
DTSTAMP:20260419T225150
CREATED:20210323T014612Z
LAST-MODIFIED:20210323T014612Z
UID:28471-1620846000-1620851400@astorialic.org
SUMMARY:MAKING MOVIE MAGIC – GREAT GATSBY!
DESCRIPTION:“The Great Gatsby” BazMark Productions (2015)\n1920 Virtual Walking Tour of New York City \nDirector Baz Lurhman faced a daunting task in 2013 when he decided to do a remake of F Scott Fitzgerald’s The Great Gatsby. This was made possible from research compiled by the Greater Astoria Historical Society that Baz and his crew dubbed ‘The Bible.’ It enabled Baz to create a vision of 1920s New York earning him several Academy Awards. \nMeet Jay Gatsby and the gang. Bob Singleton invites you to step into their world for a virtual walking tour.\nMay 12 at 7:00 pm \nMake your reservation here: \nhttps://www.eventbrite.com/myevent?eid=151731361587
URL:https://astorialic.org/event/making-movie-magic-great-gatsby-4/
END:VEVENT
BEGIN:VEVENT
DTSTART;TZID=UTC:20210503T190000
DTEND;TZID=UTC:20210503T203000
DTSTAMP:20260419T225150
CREATED:20210429T054057Z
LAST-MODIFIED:20210429T054057Z
UID:7945-1620068400-1620073800@astorialic.org
SUMMARY:Long Island Migrant Labor
DESCRIPTION:Long Island Migrant Labor Camps \n \nThe fascinating story of the migrant labor camps in Suffolk County from their inception during World War II\, through their heyday in 1960\, and culminating with their steady decline towards the end of the 20th century. Mark A. Torres\, the author of this book\, is a labor and employment attorney who tirelessly represents thousands of unionized workers and their families throughout the greater New York area. \nTo register for this virtual event: \nhttps://www.eventbrite.com/e/long-island-migrant-labor-camps-dust-for-blood-tickets-152583379997 \n 
URL:https://astorialic.org/event/long-island-migrant-labor-camps/
END:VEVENT
BEGIN:VEVENT
DTSTART;TZID=UTC:20210503T190000
DTEND;TZID=UTC:20210503T203000
DTSTAMP:20260419T225150
CREATED:20210429T054057Z
LAST-MODIFIED:20210429T054057Z
UID:28342-1620068400-1620073800@astorialic.org
SUMMARY:Long Island Migrant Labor
DESCRIPTION:Long Island Migrant Labor Camps \n \nThe fascinating story of the migrant labor camps in Suffolk County from their inception during World War II\, through their heyday in 1960\, and culminating with their steady decline towards the end of the 20th century. Mark A. Torres\, the author of this book\, is a labor and employment attorney who tirelessly represents thousands of unionized workers and their families throughout the greater New York area. \nTo register for this virtual event: \nhttps://www.eventbrite.com/e/long-island-migrant-labor-camps-dust-for-blood-tickets-152583379997 \n 
URL:https://astorialic.org/event/long-island-migrant-labor-camps-2/
END:VEVENT
BEGIN:VEVENT
DTSTART;TZID=UTC:20210503T190000
DTEND;TZID=UTC:20210503T203000
DTSTAMP:20260419T225150
CREATED:20210429T054057Z
LAST-MODIFIED:20210429T054057Z
UID:28405-1620068400-1620073800@astorialic.org
SUMMARY:Long Island Migrant Labor
DESCRIPTION:Long Island Migrant Labor Camps \n \nThe fascinating story of the migrant labor camps in Suffolk County from their inception during World War II\, through their heyday in 1960\, and culminating with their steady decline towards the end of the 20th century. Mark A. Torres\, the author of this book\, is a labor and employment attorney who tirelessly represents thousands of unionized workers and their families throughout the greater New York area. \nTo register for this virtual event: \nhttps://www.eventbrite.com/e/long-island-migrant-labor-camps-dust-for-blood-tickets-152583379997 \n 
URL:https://astorialic.org/event/long-island-migrant-labor-camps-3/
END:VEVENT
BEGIN:VEVENT
DTSTART;TZID=UTC:20210503T190000
DTEND;TZID=UTC:20210503T203000
DTSTAMP:20260419T225150
CREATED:20210429T054057Z
LAST-MODIFIED:20210429T054057Z
UID:28476-1620068400-1620073800@astorialic.org
SUMMARY:Long Island Migrant Labor
DESCRIPTION:Long Island Migrant Labor Camps \n \nThe fascinating story of the migrant labor camps in Suffolk County from their inception during World War II\, through their heyday in 1960\, and culminating with their steady decline towards the end of the 20th century. Mark A. Torres\, the author of this book\, is a labor and employment attorney who tirelessly represents thousands of unionized workers and their families throughout the greater New York area. \nTo register for this virtual event: \nhttps://www.eventbrite.com/e/long-island-migrant-labor-camps-dust-for-blood-tickets-152583379997 \n 
URL:https://astorialic.org/event/long-island-migrant-labor-camps-4/
END:VEVENT
BEGIN:VEVENT
DTSTART;TZID=UTC:20210503T080000
DTEND;TZID=UTC:20210509T170000
DTSTAMP:20260419T225150
CREATED:20210503T204127Z
LAST-MODIFIED:20210503T204127Z
UID:7995-1620028800-1620579600@astorialic.org
SUMMARY:Janes Walk - LIC Cradle of Creativity
DESCRIPTION:The Time Traveler’s Trip: Postcards from Old Astoria!\nAva Vitelli\, Jade Oliver\, Board Members\, GAHS\nWednesday\, May 6\, 2021 @ 6:00 PM\nhttps://www.mas.org/events/the-time-travelers-trip-postcards-from-old-astoria/\n* * *\nLong Island City: Cradle of Creativity!\nBob Singleton\, Executive Director\, GAHS\nWednesday\, May 5\, 2021 @ 6:00 PM\nhttps://www.mas.org/events/long-island-city-cradle-of-creativity
URL:https://astorialic.org/event/janes-walk-lic-cradle-of-creativity/
END:VEVENT
BEGIN:VEVENT
DTSTART;TZID=UTC:20210503T080000
DTEND;TZID=UTC:20210509T170000
DTSTAMP:20260419T225150
CREATED:20210503T204127Z
LAST-MODIFIED:20210503T204127Z
UID:28343-1620028800-1620579600@astorialic.org
SUMMARY:Janes Walk - LIC Cradle of Creativity
DESCRIPTION:The Time Traveler’s Trip: Postcards from Old Astoria!\nAva Vitelli\, Jade Oliver\, Board Members\, GAHS\nWednesday\, May 6\, 2021 @ 6:00 PM\nhttps://www.mas.org/events/the-time-travelers-trip-postcards-from-old-astoria/\n* * *\nLong Island City: Cradle of Creativity!\nBob Singleton\, Executive Director\, GAHS\nWednesday\, May 5\, 2021 @ 6:00 PM\nhttps://www.mas.org/events/long-island-city-cradle-of-creativity
URL:https://astorialic.org/event/janes-walk-lic-cradle-of-creativity-2/
END:VEVENT
BEGIN:VEVENT
DTSTART;TZID=UTC:20210503T080000
DTEND;TZID=UTC:20210509T170000
DTSTAMP:20260419T225150
CREATED:20210503T204127Z
LAST-MODIFIED:20210503T204127Z
UID:28406-1620028800-1620579600@astorialic.org
SUMMARY:Janes Walk - LIC Cradle of Creativity
DESCRIPTION:The Time Traveler’s Trip: Postcards from Old Astoria!\nAva Vitelli\, Jade Oliver\, Board Members\, GAHS\nWednesday\, May 6\, 2021 @ 6:00 PM\nhttps://www.mas.org/events/the-time-travelers-trip-postcards-from-old-astoria/\n* * *\nLong Island City: Cradle of Creativity!\nBob Singleton\, Executive Director\, GAHS\nWednesday\, May 5\, 2021 @ 6:00 PM\nhttps://www.mas.org/events/long-island-city-cradle-of-creativity
URL:https://astorialic.org/event/janes-walk-lic-cradle-of-creativity-3/
END:VEVENT
BEGIN:VEVENT
DTSTART;TZID=UTC:20210503T080000
DTEND;TZID=UTC:20210509T170000
DTSTAMP:20260419T225150
CREATED:20210503T204127Z
LAST-MODIFIED:20210503T204127Z
UID:28477-1620028800-1620579600@astorialic.org
SUMMARY:Janes Walk - LIC Cradle of Creativity
DESCRIPTION:The Time Traveler’s Trip: Postcards from Old Astoria!\nAva Vitelli\, Jade Oliver\, Board Members\, GAHS\nWednesday\, May 6\, 2021 @ 6:00 PM\nhttps://www.mas.org/events/the-time-travelers-trip-postcards-from-old-astoria/\n* * *\nLong Island City: Cradle of Creativity!\nBob Singleton\, Executive Director\, GAHS\nWednesday\, May 5\, 2021 @ 6:00 PM\nhttps://www.mas.org/events/long-island-city-cradle-of-creativity
URL:https://astorialic.org/event/janes-walk-lic-cradle-of-creativity-4/
END:VEVENT
BEGIN:VEVENT
DTSTART;TZID=UTC:20210426T190000
DTEND;TZID=UTC:20210426T203000
DTSTAMP:20260419T225150
CREATED:20210324T222348Z
LAST-MODIFIED:20210324T222348Z
UID:7707-1619463600-1619469000@astorialic.org
SUMMARY:Queens as a crucible of creativity: the World's Boro and Show Biz!
DESCRIPTION:Queens is seldom the first NYC borough most people think of when it comes to show biz glamor\, but its sprawling identity is somewhat deceptive. \nQueens has been the site of numerous movie studios\, dazzling amusement parks\, cathedral-like theatres\, and two international Worlds Fairs\, as well as the home of such giants of 20th-century entertainment as Tony Bennett\, Louis Armstrong\, the Marx Brothers\, Ginger Rogers\, WC Fields\, Ethel Merman\, Don Rickles\, and many others. \nJoin writer and performer Trav S.D. for this fun\, free illustrated talk on Queens as a crucible of creativity. \n\n\n\nApril 26\, 2020 \nPLEASE RSVP WITH THIS LINK! \nhttps://www.eventbrite.com/e/queens-as-a-crucible-of-creativity-the-worlds-boro-and-show-biz-tickets-151676168503 \n\n\n\n\n\n\n\n\n\n\n\n\n\n\n\nLocal-Express
URL:https://astorialic.org/event/queens-as-a-crucible-of-creativity-the-worlds-boro-and-show-biz/
END:VEVENT
BEGIN:VEVENT
DTSTART;TZID=UTC:20210426T190000
DTEND;TZID=UTC:20210426T203000
DTSTAMP:20260419T225150
CREATED:20210324T222348Z
LAST-MODIFIED:20210324T222348Z
UID:28339-1619463600-1619469000@astorialic.org
SUMMARY:Queens as a crucible of creativity: the World's Boro and Show Biz!
DESCRIPTION:Queens is seldom the first NYC borough most people think of when it comes to show biz glamor\, but its sprawling identity is somewhat deceptive. \nQueens has been the site of numerous movie studios\, dazzling amusement parks\, cathedral-like theatres\, and two international Worlds Fairs\, as well as the home of such giants of 20th-century entertainment as Tony Bennett\, Louis Armstrong\, the Marx Brothers\, Ginger Rogers\, WC Fields\, Ethel Merman\, Don Rickles\, and many others. \nJoin writer and performer Trav S.D. for this fun\, free illustrated talk on Queens as a crucible of creativity. \n\n\n\nApril 26\, 2020 \nPLEASE RSVP WITH THIS LINK! \nhttps://www.eventbrite.com/e/queens-as-a-crucible-of-creativity-the-worlds-boro-and-show-biz-tickets-151676168503 \n\n\n\n\n\n\n\n\n\n\n\n\n\n\n\nLocal-Express
URL:https://astorialic.org/event/queens-as-a-crucible-of-creativity-the-worlds-boro-and-show-biz-2/
END:VEVENT
BEGIN:VEVENT
DTSTART;TZID=UTC:20210426T190000
DTEND;TZID=UTC:20210426T203000
DTSTAMP:20260419T225150
CREATED:20210324T222348Z
LAST-MODIFIED:20210324T222348Z
UID:28402-1619463600-1619469000@astorialic.org
SUMMARY:Queens as a crucible of creativity: the World's Boro and Show Biz!
DESCRIPTION:Queens is seldom the first NYC borough most people think of when it comes to show biz glamor\, but its sprawling identity is somewhat deceptive. \nQueens has been the site of numerous movie studios\, dazzling amusement parks\, cathedral-like theatres\, and two international Worlds Fairs\, as well as the home of such giants of 20th-century entertainment as Tony Bennett\, Louis Armstrong\, the Marx Brothers\, Ginger Rogers\, WC Fields\, Ethel Merman\, Don Rickles\, and many others. \nJoin writer and performer Trav S.D. for this fun\, free illustrated talk on Queens as a crucible of creativity. \n\n\n\nApril 26\, 2020 \nPLEASE RSVP WITH THIS LINK! \nhttps://www.eventbrite.com/e/queens-as-a-crucible-of-creativity-the-worlds-boro-and-show-biz-tickets-151676168503 \n\n\n\n\n\n\n\n\n\n\n\n\n\n\n\nLocal-Express
URL:https://astorialic.org/event/queens-as-a-crucible-of-creativity-the-worlds-boro-and-show-biz-3/
END:VEVENT
END:VCALENDAR